BEGIN:VCALENDAR
VERSION:2.0
PRODID:-//Tukios.com/
BEGIN:VEVENT
UID:baa1af4a-20ea-494f-a691-ddb2ddbadda4@www.coffmanfuneralhome.net
DTSTAMP:20260424T203358Z
DTSTART:20260428T220000Z
DTEND:20260429T000000Z
SUMMARY:Visitation
DESCRIPTION:
URL:https://www.coffmanfuneralhome.net/obituaries/russell-welcher
LOCATION: 230 Frontier Drive  Staunton VA 24401
GEO:38.1246282;-79.0539544
END:VEVENT
END:VCALENDAR