BEGIN:VCALENDAR
VERSION:2.0
PRODID:-//Tukios.com/
BEGIN:VEVENT
UID:2dee4568-c211-44d4-842d-65ad72ef0650@www.coffmanfuneralhome.net
DTSTAMP:20260424T203821Z
DTSTART:20260429T160000Z
DTEND:20260429T170000Z
SUMMARY:Burial
DESCRIPTION:
URL:https://www.coffmanfuneralhome.net/obituaries/russell-welcher
LOCATION:Oaklawn Mausoleum and Memory Gardens 1921 Shutterlee Mill Road  
	Staunton VA 24401
GEO:38.180924;-79.0837775
END:VEVENT
END:VCALENDAR