BEGIN:VCALENDAR
VERSION:2.0
PRODID:-//Tukios.com/
BEGIN:VEVENT
UID:3b93a7e5-cacc-4690-9014-ed8e0a0c697b@www.coffmanfuneralhome.net
DTSTAMP:20260424T203816Z
DTSTART:20260429T150000Z
DTEND:20260429T160000Z
SUMMARY:Celebration of Life
DESCRIPTION:
URL:https://www.coffmanfuneralhome.net/obituaries/russell-welcher
LOCATION: 230 Frontier Drive  Staunton VA 24401
GEO:38.1246282;-79.0539544
END:VEVENT
END:VCALENDAR