BEGIN:VCALENDAR
VERSION:2.0
PRODID:-//Tukios.com/
BEGIN:VEVENT
UID:f07445f2-33f6-48df-99a2-ff34cc9c9bb8@www.coffmanfuneralhome.net
DTSTAMP:20260421T203037Z
DTSTART:20260424T210000Z
DTEND:20260424T230000Z
SUMMARY:Visitation
DESCRIPTION:
URL:https://www.coffmanfuneralhome.net/obituaries/kathryn-johnson
LOCATION: 230 Frontier Drive  Staunton VA 24401
GEO:38.1246282;-79.0539544
END:VEVENT
END:VCALENDAR