BEGIN:VCALENDAR
VERSION:2.0
PRODID:-//Tukios.com/
BEGIN:VEVENT
UID:feaf5ad3-940d-4cf2-af82-3d808e7d8a42@www.coffmanfuneralhome.net
DTSTAMP:20260420T195703Z
DTSTART:20260425T170000Z
DTEND:20260425T180000Z
SUMMARY:Graveside Service
DESCRIPTION:
URL:https://www.coffmanfuneralhome.net/obituaries/holly-shablack
LOCATION:Thornrose Cemetery 1041 West Beverley Street  Staunton VA 24401
GEO:38.1511955;-79.0845963
END:VEVENT
END:VCALENDAR