BEGIN:VCALENDAR
VERSION:2.0
PRODID:-//Tukios.com/
BEGIN:VEVENT
UID:cc5e67aa-6e2d-4ca2-bd0a-588184449492@www.coffmanfuneralhome.net
DTSTAMP:20260420T200137Z
DTSTART:20260425T143000Z
DTEND:20260425T163000Z
SUMMARY:Visitation
DESCRIPTION:
URL:https://www.coffmanfuneralhome.net/obituaries/holly-shablack
LOCATION:Coffman Funeral Home and Crematory 230 Frontier Drive  Staunton 
	VA 24401
GEO:38.1246282;-79.0539544
END:VEVENT
END:VCALENDAR