BEGIN:VCALENDAR
VERSION:2.0
PRODID:-//Tukios.com/
BEGIN:VEVENT
UID:3a0b58cd-96a8-4945-bb10-6a4697231f4e@www.coffmanfuneralhome.net
DTSTAMP:20260421T194956Z
DTSTART:20260501T220000Z
DTEND:20260502T000000Z
SUMMARY:Visitation
DESCRIPTION:
URL:https://www.coffmanfuneralhome.net/obituaries/andrew-willett
LOCATION: 230 Frontier Drive  Staunton VA 24401
GEO:38.1246282;-79.0539544
END:VEVENT
END:VCALENDAR